BEGIN:VCALENDAR
VERSION:2.0
PRODID:-//Cox Campus - ECPv6.14.2//NONSGML v1.0//EN
CALSCALE:GREGORIAN
METHOD:PUBLISH
X-WR-CALNAME:Cox Campus
X-ORIGINAL-URL:https://coxcampus.org
X-WR-CALDESC:Events for Cox Campus
REFRESH-INTERVAL;VALUE=DURATION:PT1H
X-Robots-Tag:noindex
X-PUBLISHED-TTL:PT1H
BEGIN:VTIMEZONE
TZID:America/New_York
BEGIN:DAYLIGHT
TZOFFSETFROM:-0500
TZOFFSETTO:-0400
TZNAME:EDT
DTSTART:20230312T070000
END:DAYLIGHT
BEGIN:STANDARD
TZOFFSETFROM:-0400
TZOFFSETTO:-0500
TZNAME:EST
DTSTART:20231105T060000
END:STANDARD
END:VTIMEZONE
BEGIN:VEVENT
DTSTART;TZID=America/New_York:20230913T190000
DTEND;TZID=America/New_York:20230913T190000
DTSTAMP:20260422T074259
CREATED:20230824T174254Z
LAST-MODIFIED:20230828T152647Z
UID:10000222-1694631600-1694631600@coxcampus.org
SUMMARY:25th Montag 2023 Event: Register: Live Stream
DESCRIPTION:25th Annual Montag Family Community Lecture Series live streaming from the Atlanta Speech School on\nCox Campus September 13th at 7:00 p.m. EST\nTune in to hear and learn from this year’s featured speaker\, Dr. Renée Boynton-Jarrett\, MD\, ScD\, present\nOur Children\, Their Trauma\, and What We Can Do Now. \nAre you unable to attend this event in person?  Attend the event virtually by clicking the link below.  Please register by 2:30 p.m. EST on\nSeptember 13\, 2023 to ensure you have access to the streaming link in a timely manner.   \nPlease Join! \nRegister Here *Please note:  Registrants will receive the live link the day of the lecture at 3:00 p.m. EST.\nClick here for more event information
URL:https://coxcampus.org/event/montag-2023-event-please-register-join/
LOCATION:Montag 2023: Cox Campus Live Stream
CATEGORIES:Montag 2023
END:VEVENT
END:VCALENDAR