BEGIN:VCALENDAR
VERSION:2.0
PRODID:-//Cox Campus - ECPv6.14.2//NONSGML v1.0//EN
CALSCALE:GREGORIAN
METHOD:PUBLISH
X-WR-CALNAME:Cox Campus
X-ORIGINAL-URL:https://coxcampus.org
X-WR-CALDESC:Events for Cox Campus
REFRESH-INTERVAL;VALUE=DURATION:PT1H
X-Robots-Tag:noindex
X-PUBLISHED-TTL:PT1H
BEGIN:VTIMEZONE
TZID:America/New_York
BEGIN:DAYLIGHT
TZOFFSETFROM:-0500
TZOFFSETTO:-0400
TZNAME:EDT
DTSTART:20230312T070000
END:DAYLIGHT
BEGIN:STANDARD
TZOFFSETFROM:-0400
TZOFFSETTO:-0500
TZNAME:EST
DTSTART:20231105T060000
END:STANDARD
END:VTIMEZONE
BEGIN:VEVENT
DTSTART;TZID=America/New_York:20230928T153000
DTEND;TZID=America/New_York:20230928T163000
DTSTAMP:20260424T094143
CREATED:20230809T142904Z
LAST-MODIFIED:20230811T132541Z
UID:10000175-1695915000-1695918600@coxcampus.org
SUMMARY:K-3 Teachers: Speech to PrintHow to Cultivate Language Centered ClassroomsSetting up Positive Classroom Culture with Language
DESCRIPTION:Register for this knowledge and practical learning experience for K-3 educators. Over the course of four\, quarterly sessions\, learners will build knowledge of structured literacy that is immediately applicable in your daily instruction\, and ensure every student in your classroom has access to language and literacy. \nQuarter One\nThis quarter focuses on setting up positive classroom culture with language.\nRegister and Join us!
URL:https://coxcampus.org/event/k3-teachers-speech-to-printhow-to-cultivate-language-centered-classroomssetting-up-positive-classroom-culture-with-language/
LOCATION:Cox Campus | Yearlong Learning Journey Webinar
CATEGORIES:K-3
END:VEVENT
END:VCALENDAR