BEGIN:VCALENDAR
VERSION:2.0
PRODID:-//Cox Campus - ECPv6.14.2//NONSGML v1.0//EN
CALSCALE:GREGORIAN
METHOD:PUBLISH
X-WR-CALNAME:Cox Campus
X-ORIGINAL-URL:https://coxcampus.org
X-WR-CALDESC:Events for Cox Campus
REFRESH-INTERVAL;VALUE=DURATION:PT1H
X-Robots-Tag:noindex
X-PUBLISHED-TTL:PT1H
BEGIN:VTIMEZONE
TZID:America/New_York
BEGIN:DAYLIGHT
TZOFFSETFROM:-0500
TZOFFSETTO:-0400
TZNAME:EDT
DTSTART:20230312T070000
END:DAYLIGHT
BEGIN:STANDARD
TZOFFSETFROM:-0400
TZOFFSETTO:-0500
TZNAME:EST
DTSTART:20231105T060000
END:STANDARD
END:VTIMEZONE
BEGIN:VEVENT
DTSTART;TZID=America/New_York:20230809T000000
DTEND;TZID=America/New_York:20230809T000000
DTSTAMP:20260422T061346
CREATED:20230810T003424Z
LAST-MODIFIED:20250220T031008Z
UID:10000208-1691539200-1691539200@coxcampus.org
SUMMARY:Birth through 5 Instructional Coaching: Cox Campus Year Long Journey
DESCRIPTION:All families care about their children and just like teachers\, want to support their learning.
URL:https://coxcampus.org/event/birth-through-5-instructional-coaching-cox-campus-year-long-journey-4/
LOCATION:Cox Campus | Yearlong Learning Journey Webinar
END:VEVENT
BEGIN:VEVENT
DTSTART;TZID=America/New_York:20230828T100000
DTEND;TZID=America/New_York:20230828T110000
DTSTAMP:20260422T061346
CREATED:20230809T182811Z
LAST-MODIFIED:20230811T133102Z
UID:10000200-1693216800-1693220400@coxcampus.org
SUMMARY:Knowledge Building for K-3 Leaders:Setting the Foundation for Structured Literacy Transformation Information Session
DESCRIPTION:Join a fast-paced and comprehensive professional learning journey\, including asynchronous coursework on Cox Campus with peer learning through regular\, virtual PLCs. This opportunity is facilitated by the Rollins Center in partnership with the Georgia Department of Education.\n  \nObjectives \n\nBuild Knowledge in Foundational Literacy\nSet the Foundation for Transformative Change\nCultivate a Peer-Leadership Network\n\nSeries Overview: Topic/Date\nEarly Literacy Monday\, October 30\, 2023 \nPhonics Monday\, November 27\, 2023 \nFluency and MTSS/RTI Monday\, January 29\, 2024 \nReading Comprehension Thursday\, February 29\, 2024 \nVocabulary Instruction Monday\, March 25\, 2024 \nStructured Literacy Assessment and Instruction Monday\, April 22\, 2024 \nWriting Monday\, June 3\, 2024 \n  \n\n\n\n\n 
URL:https://coxcampus.org/event/knowledge-building-for-leaderssetting-the-foundation-for-structured-literacy-transformation-information-session/
LOCATION:Cox Campus | Yearlong Learning Journey Webinar
CATEGORIES:School Leaders
END:VEVENT
BEGIN:VEVENT
DTSTART;TZID=America/New_York:20230828T150000
DTEND;TZID=America/New_York:20230828T160000
DTSTAMP:20260422T061346
CREATED:20230809T183111Z
LAST-MODIFIED:20230811T132644Z
UID:10000201-1693234800-1693238400@coxcampus.org
SUMMARY:Knowledge Building for K-3 Leaders:Setting the Foundation for Structured Literacy Transformation Information Session
DESCRIPTION:Join a fast-paced and comprehensive professional learning journey\, including asynchronous coursework on Cox Campus with peer learning through regular\, virtual PLCs.  This opportunity is facilitated by the Rollins Center in partnership with the Georgia Department of Education.\nObjectives\n\nBuild Knowledge in Foundational Literacy\nSet the Foundation for Transformative Change\nCultivate a Peer-Leadership Network\n\nSeries Overview: Topic/Date\nEarly Literacy Monday\, October 30\, 2023 \nPhonics Monday\, November 27\, 2023 \nFluency and MTSS/RTI Monday\, January 29\, 2024 \nReading Comprehension Thursday\, February 29\, 2024 \nVocabulary Instruction Monday\, March 25\, 2024 \nStructured Literacy Assessment and Instruction Monday\, April 22\, 2024 \nWriting Monday\, June 3\, 2024 \n  \n\n\n\n\n 
URL:https://coxcampus.org/event/knowledge-building-for-leaderssetting-the-foundation-for-structured-literacy-transformation-information-session-2/
LOCATION:Cox Campus | Yearlong Learning Journey Webinar
CATEGORIES:School Leaders
END:VEVENT
END:VCALENDAR