BEGIN:VCALENDAR
VERSION:2.0
PRODID:-//Cox Campus - ECPv6.14.2//NONSGML v1.0//EN
CALSCALE:GREGORIAN
METHOD:PUBLISH
X-ORIGINAL-URL:https://coxcampus.org
X-WR-CALDESC:Events for Cox Campus
REFRESH-INTERVAL;VALUE=DURATION:PT1H
X-Robots-Tag:noindex
X-PUBLISHED-TTL:PT1H
BEGIN:VTIMEZONE
TZID:America/New_York
BEGIN:DAYLIGHT
TZOFFSETFROM:-0500
TZOFFSETTO:-0400
TZNAME:EDT
DTSTART:20230312T070000
END:DAYLIGHT
BEGIN:STANDARD
TZOFFSETFROM:-0400
TZOFFSETTO:-0500
TZNAME:EST
DTSTART:20231105T060000
END:STANDARD
END:VTIMEZONE
BEGIN:VEVENT
DTSTART;TZID=America/New_York:20231021T100000
DTEND;TZID=America/New_York:20231021T110000
DTSTAMP:20260420T105525
CREATED:20230809T150443Z
LAST-MODIFIED:20230811T133244Z
UID:10000173-1697882400-1697886000@coxcampus.org
SUMMARY:B-5 In-Home Childcare Providers: Promoting Language and Literacy Development Across Age Levels Using Anchor Books
DESCRIPTION:Family Childcare Homes are an important part of the early learning sector\, but have different needs from center-based care. In this Yearlong Learning Journey cohort\, Family Childcare Home providers will develop the knowledge\, skills and agency to track developmental milestones and support growth for every child using the free\, online Cox Campus courses and resources. \nSession 1\nThis session has a focus on using anchor books to promote language and literacy development across age levels.
URL:https://coxcampus.org/event/b5-in-home-childcare-providers-promoting-language-and-literacy-development-across-age-levels-using-anchor-books/
LOCATION:Cox Campus | Yearlong Learning Journey Webinar
CATEGORIES:Early Learning | Childcare Providers,Family Childcare Providers
END:VEVENT
BEGIN:VEVENT
DTSTART;TZID=America/New_York:20231030T100000
DTEND;TZID=America/New_York:20231030T110000
DTSTAMP:20260420T105525
CREATED:20230807T201352Z
LAST-MODIFIED:20230811T132355Z
UID:10000166-1698660000-1698663600@coxcampus.org
SUMMARY:Knowledge Building for K-3 Leaders: Setting the Foundation for Structured Literacy TransformationEarly Literacy
DESCRIPTION:Objectives\n\nBuild Knowledge in Foundational Literacy\nSet the Foundation for Transformative Change\nCultivate a Peer-Leadership Network\n\nSeries Overview: Topic/Date\nPhonics Monday\, November 27\, 2023 \nFluency and MTSS/RTI Monday\, January 29\, 2024 \nReading Comprehension Thursday\, February 29\, 2024 \nVocabulary Instruction Monday\, March 25\, 2024 \nStructured Literacy Assessment and Instruction Monday\, April 22\, 2024 \nWriting Monday\, June 3\, 2024 \n  \n\n\n\n\n 
URL:https://coxcampus.org/event/knowledge-building-for-leaders-setting-the-foundation-for-structured-literacy-transformation/
LOCATION:Cox Campus | Yearlong Learning Journey Webinar
CATEGORIES:School Leaders
END:VEVENT
END:VCALENDAR